BEGIN:VCALENDAR
VERSION:2.0
PRODID:-//Icicle Creek Center for the Arts - ECPv6.15.20//NONSGML v1.0//EN
CALSCALE:GREGORIAN
METHOD:PUBLISH
X-WR-CALNAME:Icicle Creek Center for the Arts
X-ORIGINAL-URL:https://icicle.org
X-WR-CALDESC:Events for Icicle Creek Center for the Arts
REFRESH-INTERVAL;VALUE=DURATION:PT1H
X-Robots-Tag:noindex
X-PUBLISHED-TTL:PT1H
BEGIN:VTIMEZONE
TZID:America/Los_Angeles
BEGIN:DAYLIGHT
TZOFFSETFROM:-0800
TZOFFSETTO:-0700
TZNAME:PDT
DTSTART:20250309T100000
END:DAYLIGHT
BEGIN:STANDARD
TZOFFSETFROM:-0700
TZOFFSETTO:-0800
TZNAME:PST
DTSTART:20251102T090000
END:STANDARD
BEGIN:DAYLIGHT
TZOFFSETFROM:-0800
TZOFFSETTO:-0700
TZNAME:PDT
DTSTART:20260308T100000
END:DAYLIGHT
BEGIN:STANDARD
TZOFFSETFROM:-0700
TZOFFSETTO:-0800
TZNAME:PST
DTSTART:20261101T090000
END:STANDARD
BEGIN:DAYLIGHT
TZOFFSETFROM:-0800
TZOFFSETTO:-0700
TZNAME:PDT
DTSTART:20270314T100000
END:DAYLIGHT
BEGIN:STANDARD
TZOFFSETFROM:-0700
TZOFFSETTO:-0800
TZNAME:PST
DTSTART:20271107T090000
END:STANDARD
END:VTIMEZONE
BEGIN:VEVENT
DTSTART;TZID=America/Los_Angeles:20260305T190000
DTEND;TZID=America/Los_Angeles:20260305T190000
DTSTAMP:20260425T155746
CREATED:20251009T220952Z
LAST-MODIFIED:20251009T220952Z
UID:11375-1772737200-1772737200@icicle.org
SUMMARY:Singer Songwriter Storyteller - March
DESCRIPTION:Aaron Crawford\, Nick Mardon\, and Chris Ward.Acoustic instruments\, honest vocals\, and songs that stay with you long after the last note – all inside Leavenworth’s Snowy Owl Theater\, a world-class listening room that feels just like home.
URL:https://icicle.org/event/singer-songwriter-storyteller-march/
END:VEVENT
BEGIN:VEVENT
DTSTART;TZID=America/Los_Angeles:20260314T193000
DTEND;TZID=America/Los_Angeles:20260314T193000
DTSTAMP:20260425T155746
CREATED:20251009T220952Z
LAST-MODIFIED:20251009T220952Z
UID:11376-1773516600-1773516600@icicle.org
SUMMARY:The Hip-Hop Orchestra Experience @ The Numerica Performing Arts Center
DESCRIPTION:This event is happening at the Numerica Performing Arts Center. Hip Hop Orchestra fuses classical music with hip-hop\, creating a groundbreaking\, high-energy sound that redefines both genres. For tickets\, please go to the Numerica PAC website.
URL:https://icicle.org/event/the-hip-hop-orchestra-experience-the-numerica-performing-arts-center/
END:VEVENT
BEGIN:VEVENT
DTSTART;TZID=America/Los_Angeles:20260320T193000
DTEND;TZID=America/Los_Angeles:20260320T193000
DTSTAMP:20260425T155746
CREATED:20251009T220953Z
LAST-MODIFIED:20251009T220953Z
UID:11377-1774035000-1774035000@icicle.org
SUMMARY:Project Convergence
DESCRIPTION:Project Convergence masterfully blends Bharatanatyam and American tap dance\, delivering a captivating experience that celebrates the harmony of two rich cultures through the universal language of rhythm.
URL:https://icicle.org/event/project-convergence/
END:VEVENT
BEGIN:VEVENT
DTSTART;TZID=America/Los_Angeles:20260321T090000
DTEND;TZID=America/Los_Angeles:20260321T090000
DTSTAMP:20260425T155746
CREATED:20251009T221151Z
LAST-MODIFIED:20251009T221151Z
UID:11378-1774083600-1774083600@icicle.org
SUMMARY:Tristan und Isolde
DESCRIPTION:Join us for The Met: Live in HD\, streamed from the Metropolitan Opera in New York City to the Snowy Owl screen.After years of anticipation\, a truly unmissable event arrives as the electrifying Lise Davidsen tackles one of the ultimate roles for dramatic soprano: the Irish princess\, Isolde.
URL:https://icicle.org/event/tristan-und-isolde/
END:VEVENT
END:VCALENDAR