BEGIN:VCALENDAR
VERSION:2.0
PRODID:-//Icicle Creek Center for the Arts - ECPv6.15.20//NONSGML v1.0//EN
CALSCALE:GREGORIAN
METHOD:PUBLISH
X-ORIGINAL-URL:https://icicle.org
X-WR-CALDESC:Events for Icicle Creek Center for the Arts
REFRESH-INTERVAL;VALUE=DURATION:PT1H
X-Robots-Tag:noindex
X-PUBLISHED-TTL:PT1H
BEGIN:VTIMEZONE
TZID:America/Los_Angeles
BEGIN:DAYLIGHT
TZOFFSETFROM:-0800
TZOFFSETTO:-0700
TZNAME:PDT
DTSTART:20230312T100000
END:DAYLIGHT
BEGIN:STANDARD
TZOFFSETFROM:-0700
TZOFFSETTO:-0800
TZNAME:PST
DTSTART:20231105T090000
END:STANDARD
BEGIN:DAYLIGHT
TZOFFSETFROM:-0800
TZOFFSETTO:-0700
TZNAME:PDT
DTSTART:20240310T100000
END:DAYLIGHT
BEGIN:STANDARD
TZOFFSETFROM:-0700
TZOFFSETTO:-0800
TZNAME:PST
DTSTART:20241103T090000
END:STANDARD
BEGIN:DAYLIGHT
TZOFFSETFROM:-0800
TZOFFSETTO:-0700
TZNAME:PDT
DTSTART:20250309T100000
END:DAYLIGHT
BEGIN:STANDARD
TZOFFSETFROM:-0700
TZOFFSETTO:-0800
TZNAME:PST
DTSTART:20251102T090000
END:STANDARD
END:VTIMEZONE
BEGIN:VEVENT
DTSTART;TZID=America/Los_Angeles:20240106T100000
DTEND;TZID=America/Los_Angeles:20240106T100000
DTSTAMP:20260421T161944
CREATED:20230809T222710Z
LAST-MODIFIED:20231011T203956Z
UID:10091-1704535200-1704535200@icicle.org
SUMMARY:Nabucco
DESCRIPTION:Join us at the Snowy Owl for this HD Livestreaming event coming to us live from the Met Opera in New York City. Ancient Babylon comes to life in this classic Met staging of biblical proportions.
URL:https://icicle.org/event/nabucco/
END:VEVENT
BEGIN:VEVENT
DTSTART;TZID=America/Los_Angeles:20240120T190000
DTEND;TZID=America/Los_Angeles:20240120T190000
DTSTAMP:20260421T161944
CREATED:20231123T173515Z
LAST-MODIFIED:20231123T173515Z
UID:10345-1705777200-1705777200@icicle.org
SUMMARY:Sway Wild w/ special guests the Chumlilies
DESCRIPTION:Sway Wild’s blend of rock\, pop\, funk\, and folk with infectious rhythms and compelling lyrics\, combined with The Chumlilies’ enchanting harmonies is sure to create a truly magical experience.
URL:https://icicle.org/event/sway-wild-w-special-guests-the-chumlilies/
END:VEVENT
BEGIN:VEVENT
DTSTART;TZID=America/Los_Angeles:20240127T100000
DTEND;TZID=America/Los_Angeles:20240127T100000
DTSTAMP:20260421T161944
CREATED:20230809T222710Z
LAST-MODIFIED:20231011T204011Z
UID:10092-1706349600-1706349600@icicle.org
SUMMARY:Carmen
DESCRIPTION:Join us at the Snowy Owl for this HD Livestreaming event coming to us live from the Met Opera in New York City. Carrie Cracknell’s modern production of a classic opera tackles contemporary issues such as gendered violence\, abusive labor structures\, and societal constraints.
URL:https://icicle.org/event/carmen/
END:VEVENT
BEGIN:VEVENT
DTSTART;TZID=America/Los_Angeles:20240131T173000
DTEND;TZID=America/Los_Angeles:20240131T173000
DTSTAMP:20260421T161944
CREATED:20240131T192157Z
LAST-MODIFIED:20240131T192157Z
UID:10399-1706722200-1706722200@icicle.org
SUMMARY:Anyone Can Dance: Taps & Toasts - Class Series
DESCRIPTION:Join us for ICCA’s second dance class series where we explore TAP. No experience needed\, this class is for everyone. This class series will take place on Wednesdays January 31st\, February 7th\, 14th\, 21st\, 28th & March 6th.
URL:https://icicle.org/event/anyone-can-dance-taps-toasts-class-series/
END:VEVENT
END:VCALENDAR