BEGIN:VCALENDAR
VERSION:2.0
PRODID:-//Icicle Creek Center for the Arts - ECPv6.15.20//NONSGML v1.0//EN
CALSCALE:GREGORIAN
METHOD:PUBLISH
X-WR-CALNAME:Icicle Creek Center for the Arts
X-ORIGINAL-URL:https://icicle.org
X-WR-CALDESC:Events for Icicle Creek Center for the Arts
REFRESH-INTERVAL;VALUE=DURATION:PT1H
X-Robots-Tag:noindex
X-PUBLISHED-TTL:PT1H
BEGIN:VTIMEZONE
TZID:America/Los_Angeles
BEGIN:DAYLIGHT
TZOFFSETFROM:-0800
TZOFFSETTO:-0700
TZNAME:PDT
DTSTART:20210314T100000
END:DAYLIGHT
BEGIN:STANDARD
TZOFFSETFROM:-0700
TZOFFSETTO:-0800
TZNAME:PST
DTSTART:20211107T090000
END:STANDARD
BEGIN:DAYLIGHT
TZOFFSETFROM:-0800
TZOFFSETTO:-0700
TZNAME:PDT
DTSTART:20220313T100000
END:DAYLIGHT
BEGIN:STANDARD
TZOFFSETFROM:-0700
TZOFFSETTO:-0800
TZNAME:PST
DTSTART:20221106T090000
END:STANDARD
BEGIN:DAYLIGHT
TZOFFSETFROM:-0800
TZOFFSETTO:-0700
TZNAME:PDT
DTSTART:20230312T100000
END:DAYLIGHT
BEGIN:STANDARD
TZOFFSETFROM:-0700
TZOFFSETTO:-0800
TZNAME:PST
DTSTART:20231105T090000
END:STANDARD
END:VTIMEZONE
BEGIN:VEVENT
DTSTART;VALUE=DATE:20220807
DTEND;VALUE=DATE:20220814
DTSTAMP:20260422T021146
CREATED:20220307T232103Z
LAST-MODIFIED:20220307T232103Z
UID:9027-1659830400-1660435199@icicle.org
SUMMARY:Young Actors Theater Camp
DESCRIPTION:
URL:https://icicle.org/event/young-actors-theater-camp/
END:VEVENT
BEGIN:VEVENT
DTSTART;VALUE=DATE:20220814
DTEND;VALUE=DATE:20220821
DTSTAMP:20260422T021146
CREATED:20180512T044000Z
LAST-MODIFIED:20220307T232207Z
UID:4482-1660435200-1661039999@icicle.org
SUMMARY:Young Pianists Camp
DESCRIPTION:
URL:https://icicle.org/event/young-pianists-camp-13/
CATEGORIES:Education
END:VEVENT
BEGIN:VEVENT
DTSTART;TZID=America/Los_Angeles:20220820T190000
DTEND;TZID=America/Los_Angeles:20220820T190000
DTSTAMP:20260422T021146
CREATED:20220601T221357Z
LAST-MODIFIED:20220601T221357Z
UID:9249-1661022000-1661022000@icicle.org
SUMMARY:Junkbelly & James Counts Band
DESCRIPTION:
URL:https://icicle.org/event/junkbelly-james-counts-band/
END:VEVENT
BEGIN:VEVENT
DTSTART;TZID=America/Los_Angeles:20220826T193000
DTEND;TZID=America/Los_Angeles:20220826T193000
DTSTAMP:20260422T021146
CREATED:20220817T222908Z
LAST-MODIFIED:20220817T222908Z
UID:9387-1661542200-1661542200@icicle.org
SUMMARY:ARC Dance
DESCRIPTION:
URL:https://icicle.org/event/arc-dance/
END:VEVENT
BEGIN:VEVENT
DTSTART;TZID=America/Los_Angeles:20220827T193000
DTEND;TZID=America/Los_Angeles:20220827T193000
DTSTAMP:20260422T021146
CREATED:20220601T221824Z
LAST-MODIFIED:20220729T224749Z
UID:9251-1661628600-1661628600@icicle.org
SUMMARY:The Paperboys + Locarno
DESCRIPTION:
URL:https://icicle.org/event/locarno/
END:VEVENT
END:VCALENDAR