BEGIN:VCALENDAR
VERSION:2.0
PRODID:-//Icicle Creek Center for the Arts - ECPv6.15.20//NONSGML v1.0//EN
CALSCALE:GREGORIAN
METHOD:PUBLISH
X-WR-CALNAME:Icicle Creek Center for the Arts
X-ORIGINAL-URL:https://icicle.org
X-WR-CALDESC:Events for Icicle Creek Center for the Arts
REFRESH-INTERVAL;VALUE=DURATION:PT1H
X-Robots-Tag:noindex
X-PUBLISHED-TTL:PT1H
BEGIN:VTIMEZONE
TZID:America/Los_Angeles
BEGIN:DAYLIGHT
TZOFFSETFROM:-0800
TZOFFSETTO:-0700
TZNAME:PDT
DTSTART:20210314T100000
END:DAYLIGHT
BEGIN:STANDARD
TZOFFSETFROM:-0700
TZOFFSETTO:-0800
TZNAME:PST
DTSTART:20211107T090000
END:STANDARD
BEGIN:DAYLIGHT
TZOFFSETFROM:-0800
TZOFFSETTO:-0700
TZNAME:PDT
DTSTART:20220313T100000
END:DAYLIGHT
BEGIN:STANDARD
TZOFFSETFROM:-0700
TZOFFSETTO:-0800
TZNAME:PST
DTSTART:20221106T090000
END:STANDARD
BEGIN:DAYLIGHT
TZOFFSETFROM:-0800
TZOFFSETTO:-0700
TZNAME:PDT
DTSTART:20230312T100000
END:DAYLIGHT
BEGIN:STANDARD
TZOFFSETFROM:-0700
TZOFFSETTO:-0800
TZNAME:PST
DTSTART:20231105T090000
END:STANDARD
END:VTIMEZONE
BEGIN:VEVENT
DTSTART;TZID=America/Los_Angeles:20220312T095500
DTEND;TZID=America/Los_Angeles:20220312T095500
DTSTAMP:20260422T112531
CREATED:20211118T210308Z
LAST-MODIFIED:20211118T210308Z
UID:8887-1647078900-1647078900@icicle.org
SUMMARY:Ariandne auf Naxos - The Met: Live in HD
DESCRIPTION:
URL:https://icicle.org/event/ariandne-auf-naxos-the-met-live-in-hd/
END:VEVENT
BEGIN:VEVENT
DTSTART;TZID=America/Los_Angeles:20220326T090000
DTEND;TZID=America/Los_Angeles:20220326T090000
DTSTAMP:20260422T112531
CREATED:20211118T210308Z
LAST-MODIFIED:20211118T210308Z
UID:8888-1648285200-1648285200@icicle.org
SUMMARY:Don Carolos - The Met: Live in HD
DESCRIPTION:
URL:https://icicle.org/event/don-carolos-the-met-live-in-hd/
END:VEVENT
END:VCALENDAR