BEGIN:VCALENDAR
VERSION:2.0
PRODID:-//Icicle Creek Center for the Arts - ECPv6.15.20//NONSGML v1.0//EN
CALSCALE:GREGORIAN
METHOD:PUBLISH
X-WR-CALNAME:Icicle Creek Center for the Arts
X-ORIGINAL-URL:https://icicle.org
X-WR-CALDESC:Events for Icicle Creek Center for the Arts
REFRESH-INTERVAL;VALUE=DURATION:PT1H
X-Robots-Tag:noindex
X-PUBLISHED-TTL:PT1H
BEGIN:VTIMEZONE
TZID:America/Los_Angeles
BEGIN:DAYLIGHT
TZOFFSETFROM:-0800
TZOFFSETTO:-0700
TZNAME:PDT
DTSTART:20200308T100000
END:DAYLIGHT
BEGIN:STANDARD
TZOFFSETFROM:-0700
TZOFFSETTO:-0800
TZNAME:PST
DTSTART:20201101T090000
END:STANDARD
BEGIN:DAYLIGHT
TZOFFSETFROM:-0800
TZOFFSETTO:-0700
TZNAME:PDT
DTSTART:20210314T100000
END:DAYLIGHT
BEGIN:STANDARD
TZOFFSETFROM:-0700
TZOFFSETTO:-0800
TZNAME:PST
DTSTART:20211107T090000
END:STANDARD
BEGIN:DAYLIGHT
TZOFFSETFROM:-0800
TZOFFSETTO:-0700
TZNAME:PDT
DTSTART:20220313T100000
END:DAYLIGHT
BEGIN:STANDARD
TZOFFSETFROM:-0700
TZOFFSETTO:-0800
TZNAME:PST
DTSTART:20221106T090000
END:STANDARD
END:VTIMEZONE
BEGIN:VEVENT
DTSTART;TZID=America/Los_Angeles:20211105T180000
DTEND;TZID=America/Los_Angeles:20211105T180000
DTSTAMP:20260422T190026
CREATED:20211024T042920Z
LAST-MODIFIED:20211024T042920Z
UID:8829-1636135200-1636135200@icicle.org
SUMMARY:TGR: Stoke the Fire
DESCRIPTION:
URL:https://icicle.org/event/tgr-stoke-the-fire/
END:VEVENT
BEGIN:VEVENT
DTSTART;TZID=America/Los_Angeles:20211105T210000
DTEND;TZID=America/Los_Angeles:20211105T210000
DTSTAMP:20260422T190026
CREATED:20211024T042920Z
LAST-MODIFIED:20211024T042920Z
UID:8830-1636146000-1636146000@icicle.org
SUMMARY:TGR: Stoke the Fire
DESCRIPTION:
URL:https://icicle.org/event/tgr-stoke-the-fire-2/
END:VEVENT
BEGIN:VEVENT
DTSTART;TZID=America/Los_Angeles:20211106T190000
DTEND;TZID=America/Los_Angeles:20211106T190000
DTSTAMP:20260422T190026
CREATED:20211024T042927Z
LAST-MODIFIED:20211024T042927Z
UID:8833-1636225200-1636225200@icicle.org
SUMMARY:Snowy Owl Songwriters Circle w/ Kevin Jones
DESCRIPTION:
URL:https://icicle.org/event/snowy-owl-songwriters-circle-w-kevin-jones/
END:VEVENT
BEGIN:VEVENT
DTSTART;TZID=America/Los_Angeles:20211113T190000
DTEND;TZID=America/Los_Angeles:20211113T190000
DTSTAMP:20260422T190026
CREATED:20211024T042926Z
LAST-MODIFIED:20211024T042926Z
UID:8831-1636830000-1636830000@icicle.org
SUMMARY:War Horse - NT Live
DESCRIPTION:
URL:https://icicle.org/event/war-horse-nt-live/
END:VEVENT
BEGIN:VEVENT
DTSTART;TZID=America/Los_Angeles:20211119T190000
DTEND;TZID=America/Los_Angeles:20211119T190000
DTSTAMP:20260422T190026
CREATED:20211024T042926Z
LAST-MODIFIED:20211024T042926Z
UID:8832-1637348400-1637348400@icicle.org
SUMMARY:Uncle Bonsai
DESCRIPTION:
URL:https://icicle.org/event/uncle-bonsai/
END:VEVENT
BEGIN:VEVENT
DTSTART;TZID=America/Los_Angeles:20211121T140000
DTEND;TZID=America/Los_Angeles:20211121T140000
DTSTAMP:20260422T190026
CREATED:20211024T042919Z
LAST-MODIFIED:20211024T042919Z
UID:8827-1637503200-1637503200@icicle.org
SUMMARY:Sundays at Icicle Creek: Yerin Kim and Brendan Shea
DESCRIPTION:
URL:https://icicle.org/event/sundays-at-icicle-creek-yerin-kim-and-brendan-shea/
END:VEVENT
END:VCALENDAR