BEGIN:VCALENDAR
VERSION:2.0
PRODID:-//Icicle Creek Center for the Arts - ECPv6.15.20//NONSGML v1.0//EN
CALSCALE:GREGORIAN
METHOD:PUBLISH
X-WR-CALNAME:Icicle Creek Center for the Arts
X-ORIGINAL-URL:https://icicle.org
X-WR-CALDESC:Events for Icicle Creek Center for the Arts
REFRESH-INTERVAL;VALUE=DURATION:PT1H
X-Robots-Tag:noindex
X-PUBLISHED-TTL:PT1H
BEGIN:VTIMEZONE
TZID:America/Los_Angeles
BEGIN:DAYLIGHT
TZOFFSETFROM:-0800
TZOFFSETTO:-0700
TZNAME:PDT
DTSTART:20200308T100000
END:DAYLIGHT
BEGIN:STANDARD
TZOFFSETFROM:-0700
TZOFFSETTO:-0800
TZNAME:PST
DTSTART:20201101T090000
END:STANDARD
BEGIN:DAYLIGHT
TZOFFSETFROM:-0800
TZOFFSETTO:-0700
TZNAME:PDT
DTSTART:20210314T100000
END:DAYLIGHT
BEGIN:STANDARD
TZOFFSETFROM:-0700
TZOFFSETTO:-0800
TZNAME:PST
DTSTART:20211107T090000
END:STANDARD
BEGIN:DAYLIGHT
TZOFFSETFROM:-0800
TZOFFSETTO:-0700
TZNAME:PDT
DTSTART:20220313T100000
END:DAYLIGHT
BEGIN:STANDARD
TZOFFSETFROM:-0700
TZOFFSETTO:-0800
TZNAME:PST
DTSTART:20221106T090000
END:STANDARD
END:VTIMEZONE
BEGIN:VEVENT
DTSTART;TZID=America/Los_Angeles:20210110T050000
DTEND;TZID=America/Los_Angeles:20210110T060000
DTSTAMP:20260423T130516
CREATED:20210113T054421Z
LAST-MODIFIED:20210113T054421Z
UID:8087-1610254800-1610258400@icicle.org
SUMMARY:Sundays at Icicle Creek: Bach Cello Suites I
DESCRIPTION:Sunday concerts featuring cellist Sæunn Thorsteinsdóttir performing all of Bach’s Cello Suites
URL:https://icicle.org/event/sundays-at-icicle-creek-bach-cello-suites-i/
END:VEVENT
BEGIN:VEVENT
DTSTART;TZID=America/Los_Angeles:20210117T050000
DTEND;TZID=America/Los_Angeles:20210117T060000
DTSTAMP:20260423T130516
CREATED:20210113T054614Z
LAST-MODIFIED:20210113T054614Z
UID:8089-1610859600-1610863200@icicle.org
SUMMARY:Sundays at Icicle Creek: Bach Cello Suites II
DESCRIPTION:Saeunn Thorsteinsdottir performs Bach’s Cello suites in three concerts from Canyon Wren Recital Hall.
URL:https://icicle.org/event/sundays-at-icicle-creek-bach-cello-suites-ii/
END:VEVENT
BEGIN:VEVENT
DTSTART;TZID=America/Los_Angeles:20210124T050000
DTEND;TZID=America/Los_Angeles:20210124T060000
DTSTAMP:20260423T130516
CREATED:20210113T054712Z
LAST-MODIFIED:20210113T054712Z
UID:8091-1611464400-1611468000@icicle.org
SUMMARY:Sundays at Icicle Creek: Bach Cello Suites III
DESCRIPTION:Saeunn Thorsteinsdottir performs Bach’s Cello suites in three concerts from Canyon Wren Recital Hall.
URL:https://icicle.org/event/sundays-at-icicle-creek-bach-cello-suites-iii/
END:VEVENT
BEGIN:VEVENT
DTSTART;TZID=America/Los_Angeles:20210127T110000
DTEND;TZID=America/Los_Angeles:20210127T110000
DTSTAMP:20260423T130516
CREATED:20210121T055908Z
LAST-MODIFIED:20210121T055908Z
UID:8124-1611745200-1611745200@icicle.org
SUMMARY:Icicle Creek Artist Talk with Austin J Smith
DESCRIPTION:
URL:https://icicle.org/event/icicle-creek-artist-talk-with-austin-j-smith/
END:VEVENT
END:VCALENDAR