BEGIN:VCALENDAR
VERSION:2.0
PRODID:-//Icicle Creek Center for the Arts - ECPv6.15.20//NONSGML v1.0//EN
CALSCALE:GREGORIAN
METHOD:PUBLISH
X-ORIGINAL-URL:https://icicle.org
X-WR-CALDESC:Events for Icicle Creek Center for the Arts
REFRESH-INTERVAL;VALUE=DURATION:PT1H
X-Robots-Tag:noindex
X-PUBLISHED-TTL:PT1H
BEGIN:VTIMEZONE
TZID:America/Los_Angeles
BEGIN:DAYLIGHT
TZOFFSETFROM:-0800
TZOFFSETTO:-0700
TZNAME:PDT
DTSTART:20190310T100000
END:DAYLIGHT
BEGIN:STANDARD
TZOFFSETFROM:-0700
TZOFFSETTO:-0800
TZNAME:PST
DTSTART:20191103T090000
END:STANDARD
BEGIN:DAYLIGHT
TZOFFSETFROM:-0800
TZOFFSETTO:-0700
TZNAME:PDT
DTSTART:20200308T100000
END:DAYLIGHT
BEGIN:STANDARD
TZOFFSETFROM:-0700
TZOFFSETTO:-0800
TZNAME:PST
DTSTART:20201101T090000
END:STANDARD
BEGIN:DAYLIGHT
TZOFFSETFROM:-0800
TZOFFSETTO:-0700
TZNAME:PDT
DTSTART:20210314T100000
END:DAYLIGHT
BEGIN:STANDARD
TZOFFSETFROM:-0700
TZOFFSETTO:-0800
TZNAME:PST
DTSTART:20211107T090000
END:STANDARD
END:VTIMEZONE
BEGIN:VEVENT
DTSTART;TZID=America/Los_Angeles:20200111T015500
DTEND;TZID=America/Los_Angeles:20200111T015500
DTSTAMP:20260424T104505
CREATED:20190824T035559Z
LAST-MODIFIED:20190824T035559Z
UID:6210-1578707700-1578707700@icicle.org
SUMMARY:Wozzeck - The Met: Live in HD
DESCRIPTION:Alban Berg’s expressionistic masterpiece is regarded for its intense emotional power and brilliant score as one of the most significant operas of the 20th century.
URL:https://icicle.org/event/wozzeck-the-met-live-in-hd/
END:VEVENT
BEGIN:VEVENT
DTSTART;TZID=America/Los_Angeles:20200117T110000
DTEND;TZID=America/Los_Angeles:20200117T110000
DTSTAMP:20260424T104505
CREATED:20200115T070618Z
LAST-MODIFIED:20200115T070618Z
UID:6411-1579258800-1579258800@icicle.org
SUMMARY:The Winter's Tale Film Screening
DESCRIPTION:Join us for a public screening in Omak of The Winter’s Tale \, featuring film subjects oral historian Randy Lewis and geologist Nick Zentner.
URL:https://icicle.org/event/the-winters-tale-film-screening/
END:VEVENT
BEGIN:VEVENT
DTSTART;TZID=America/Los_Angeles:20200123T110000
DTEND;TZID=America/Los_Angeles:20200123T110000
DTSTAMP:20260424T104505
CREATED:20200115T071237Z
LAST-MODIFIED:20200115T071436Z
UID:6413-1579777200-1579777200@icicle.org
SUMMARY:Strange Negotiations
DESCRIPTION:A documentary exploring the spiritual\, artistic\, and personal turmoil of musician David Bazan.
URL:https://icicle.org/event/strange-negotiations/
END:VEVENT
END:VCALENDAR