BEGIN:VCALENDAR
VERSION:2.0
PRODID:-//Icicle Creek Center for the Arts - ECPv6.15.20//NONSGML v1.0//EN
CALSCALE:GREGORIAN
METHOD:PUBLISH
X-WR-CALNAME:Icicle Creek Center for the Arts
X-ORIGINAL-URL:https://icicle.org
X-WR-CALDESC:Events for Icicle Creek Center for the Arts
REFRESH-INTERVAL;VALUE=DURATION:PT1H
X-Robots-Tag:noindex
X-PUBLISHED-TTL:PT1H
BEGIN:VTIMEZONE
TZID:America/Los_Angeles
BEGIN:DAYLIGHT
TZOFFSETFROM:-0800
TZOFFSETTO:-0700
TZNAME:PDT
DTSTART:20180311T100000
END:DAYLIGHT
BEGIN:STANDARD
TZOFFSETFROM:-0700
TZOFFSETTO:-0800
TZNAME:PST
DTSTART:20181104T090000
END:STANDARD
BEGIN:DAYLIGHT
TZOFFSETFROM:-0800
TZOFFSETTO:-0700
TZNAME:PDT
DTSTART:20190310T100000
END:DAYLIGHT
BEGIN:STANDARD
TZOFFSETFROM:-0700
TZOFFSETTO:-0800
TZNAME:PST
DTSTART:20191103T090000
END:STANDARD
BEGIN:DAYLIGHT
TZOFFSETFROM:-0800
TZOFFSETTO:-0700
TZNAME:PDT
DTSTART:20200308T100000
END:DAYLIGHT
BEGIN:STANDARD
TZOFFSETFROM:-0700
TZOFFSETTO:-0800
TZNAME:PST
DTSTART:20201101T090000
END:STANDARD
END:VTIMEZONE
BEGIN:VEVENT
DTSTART;TZID=America/Los_Angeles:20191207T113000
DTEND;TZID=America/Los_Angeles:20191207T113000
DTSTAMP:20260424T122955
CREATED:20190824T035604Z
LAST-MODIFIED:20190824T035604Z
UID:6222-1575718200-1575718200@icicle.org
SUMMARY:A Handbell Christmas
DESCRIPTION:Celebrate the holiday season with Leavenworth’s Marlin Handbell Ringers and friends!
URL:https://icicle.org/event/a-handbell-christmas-3/
END:VEVENT
BEGIN:VEVENT
DTSTART;TZID=America/Los_Angeles:20191213T113000
DTEND;TZID=America/Los_Angeles:20191213T113000
DTSTAMP:20260424T122955
CREATED:20190824T035559Z
LAST-MODIFIED:20190824T035559Z
UID:6212-1576236600-1576236600@icicle.org
SUMMARY:Tingstad & Rumbel
DESCRIPTION:Theses Grammy Award-winning artists’ perfect blending of Americana fingerstyle guitar\, double reeds; and the ocarina lends magic to the season.
URL:https://icicle.org/event/tingstad-rumbel/
END:VEVENT
BEGIN:VEVENT
DTSTART;TZID=America/Los_Angeles:20191214T113000
DTEND;TZID=America/Los_Angeles:20191214T113000
DTSTAMP:20260424T122955
CREATED:20190824T035605Z
LAST-MODIFIED:20190919T022337Z
UID:6225-1576323000-1576323000@icicle.org
SUMMARY:Wickline Christmas
DESCRIPTION:Local favorites present a bluegrass Christmas celebration.
URL:https://icicle.org/event/wickline-christmas/
END:VEVENT
BEGIN:VEVENT
DTSTART;TZID=America/Los_Angeles:20191215T050000
DTEND;TZID=America/Los_Angeles:20191215T050000
DTSTAMP:20260424T122955
CREATED:20190919T022544Z
LAST-MODIFIED:20190919T022544Z
UID:6242-1576386000-1576386000@icicle.org
SUMMARY:Wickline Christmas
DESCRIPTION:Local favorites present a bluegrass Christmas celebration.
URL:https://icicle.org/event/wickline-christmas-2/
CATEGORIES:Christmas
END:VEVENT
BEGIN:VEVENT
DTSTART;TZID=America/Los_Angeles:20191220T113000
DTEND;TZID=America/Los_Angeles:20191220T113000
DTSTAMP:20260424T122955
CREATED:20191010T060824Z
LAST-MODIFIED:20191010T060824Z
UID:6269-1576841400-1576841400@icicle.org
SUMMARY:Magical Strings Celtic Yuletide
DESCRIPTION:A festive concert of music\, dance\, storytelling\, and songs of the season brings warmth and joy into the heart of winter.
URL:https://icicle.org/event/magical-strings-celtic-yuletide-8/
END:VEVENT
BEGIN:VEVENT
DTSTART;TZID=America/Los_Angeles:20191221T060000
DTEND;TZID=America/Los_Angeles:20191221T060000
DTSTAMP:20260424T122955
CREATED:20191010T060824Z
LAST-MODIFIED:20191010T060824Z
UID:6270-1576908000-1576908000@icicle.org
SUMMARY:Magical Strings Celtic Yuletide
DESCRIPTION:A festive concert of music\, dance\, storytelling\, and songs of the season brings warmth and joy into the heart of winter.
URL:https://icicle.org/event/magical-strings-celtic-yuletide-9/
END:VEVENT
BEGIN:VEVENT
DTSTART;TZID=America/Los_Angeles:20191227T113000
DTEND;TZID=America/Los_Angeles:20191228T113000
DTSTAMP:20260424T122955
CREATED:20191010T060825Z
LAST-MODIFIED:20191212T054853Z
UID:6271-1577446200-1577532600@icicle.org
SUMMARY:A Tuna Christmas and Friends
DESCRIPTION:An intimate evening of Christmas hilarity in Canyon Wren Recital Hall.
URL:https://icicle.org/event/a-tuna-christmas-and-friends/
END:VEVENT
END:VCALENDAR