BEGIN:VCALENDAR
VERSION:2.0
PRODID:-//Icicle Creek Center for the Arts - ECPv6.15.20//NONSGML v1.0//EN
CALSCALE:GREGORIAN
METHOD:PUBLISH
X-WR-CALNAME:Icicle Creek Center for the Arts
X-ORIGINAL-URL:https://icicle.org
X-WR-CALDESC:Events for Icicle Creek Center for the Arts
REFRESH-INTERVAL;VALUE=DURATION:PT1H
X-Robots-Tag:noindex
X-PUBLISHED-TTL:PT1H
BEGIN:VTIMEZONE
TZID:America/Los_Angeles
BEGIN:DAYLIGHT
TZOFFSETFROM:-0800
TZOFFSETTO:-0700
TZNAME:PDT
DTSTART:20180311T100000
END:DAYLIGHT
BEGIN:STANDARD
TZOFFSETFROM:-0700
TZOFFSETTO:-0800
TZNAME:PST
DTSTART:20181104T090000
END:STANDARD
BEGIN:DAYLIGHT
TZOFFSETFROM:-0800
TZOFFSETTO:-0700
TZNAME:PDT
DTSTART:20190310T100000
END:DAYLIGHT
BEGIN:STANDARD
TZOFFSETFROM:-0700
TZOFFSETTO:-0800
TZNAME:PST
DTSTART:20191103T090000
END:STANDARD
BEGIN:DAYLIGHT
TZOFFSETFROM:-0800
TZOFFSETTO:-0700
TZNAME:PDT
DTSTART:20200308T100000
END:DAYLIGHT
BEGIN:STANDARD
TZOFFSETFROM:-0700
TZOFFSETTO:-0800
TZNAME:PST
DTSTART:20201101T090000
END:STANDARD
END:VTIMEZONE
BEGIN:VEVENT
DTSTART;TZID=America/Los_Angeles:20191012T025500
DTEND;TZID=America/Los_Angeles:20191012T025500
DTSTAMP:20260424T161153
CREATED:20190824T035602Z
LAST-MODIFIED:20190824T035602Z
UID:6215-1570848900-1570848900@icicle.org
SUMMARY:Turandot - The Met: Live in HD
DESCRIPTION:This celebrated production of Turandot stars Christine Goerke in the title role of the icy Chinese princess who has renounced all men.
URL:https://icicle.org/event/turandot-the-met-live-in-hd/
END:VEVENT
BEGIN:VEVENT
DTSTART;TZID=America/Los_Angeles:20191019T120000
DTEND;TZID=America/Los_Angeles:20191019T120000
DTSTAMP:20260424T161153
CREATED:20190824T035604Z
LAST-MODIFIED:20190824T035604Z
UID:6223-1571486400-1571486400@icicle.org
SUMMARY:Volta Piano Trio
DESCRIPTION:Jennifer Caine\, Sally Singer-Tuttle\, and Oksana Ezhokina in concert.
URL:https://icicle.org/event/volta-piano-trio-3/
END:VEVENT
BEGIN:VEVENT
DTSTART;TZID=America/Los_Angeles:20191025T120000
DTEND;TZID=America/Los_Angeles:20191025T120000
DTSTAMP:20260424T161153
CREATED:20190824T035606Z
LAST-MODIFIED:20190824T035606Z
UID:6227-1572004800-1572004800@icicle.org
SUMMARY:TGR: Winterland
DESCRIPTION:Winterland is a celebration of ski and snowboard culture.
URL:https://icicle.org/event/tgr-winterland/
END:VEVENT
BEGIN:VEVENT
DTSTART;TZID=America/Los_Angeles:20191026T025500
DTEND;TZID=America/Los_Angeles:20191026T025500
DTSTAMP:20260424T161153
CREATED:20190824T035559Z
LAST-MODIFIED:20190824T035559Z
UID:6213-1572058500-1572058500@icicle.org
SUMMARY:Manon - The Met: Live in HD
DESCRIPTION:Massenet’s tale of passion\, excess\, and their consequences stars rising soprano Lisette Oropesa in the effervescent title role.
URL:https://icicle.org/event/manon-the-met-live-in-hd/
END:VEVENT
BEGIN:VEVENT
DTSTART;TZID=America/Los_Angeles:20191031T120000
DTEND;TZID=America/Los_Angeles:20191031T120000
DTSTAMP:20260424T161153
CREATED:20191010T060824Z
LAST-MODIFIED:20191010T060824Z
UID:6267-1572523200-1572523200@icicle.org
SUMMARY:Frankenstein: NT Live
DESCRIPTION:Benedict Cumberbatch and Jonny Lee Miller star in this brilliant and scary stage adaptation.
URL:https://icicle.org/event/frankenstein-nt-live/
END:VEVENT
END:VCALENDAR