BEGIN:VCALENDAR
VERSION:2.0
PRODID:-//Icicle Creek Center for the Arts - ECPv6.15.20//NONSGML v1.0//EN
CALSCALE:GREGORIAN
METHOD:PUBLISH
X-ORIGINAL-URL:https://icicle.org
X-WR-CALDESC:Events for Icicle Creek Center for the Arts
REFRESH-INTERVAL;VALUE=DURATION:PT1H
X-Robots-Tag:noindex
X-PUBLISHED-TTL:PT1H
BEGIN:VTIMEZONE
TZID:America/Los_Angeles
BEGIN:DAYLIGHT
TZOFFSETFROM:-0800
TZOFFSETTO:-0700
TZNAME:PDT
DTSTART:20180311T100000
END:DAYLIGHT
BEGIN:STANDARD
TZOFFSETFROM:-0700
TZOFFSETTO:-0800
TZNAME:PST
DTSTART:20181104T090000
END:STANDARD
BEGIN:DAYLIGHT
TZOFFSETFROM:-0800
TZOFFSETTO:-0700
TZNAME:PDT
DTSTART:20190310T100000
END:DAYLIGHT
BEGIN:STANDARD
TZOFFSETFROM:-0700
TZOFFSETTO:-0800
TZNAME:PST
DTSTART:20191103T090000
END:STANDARD
BEGIN:DAYLIGHT
TZOFFSETFROM:-0800
TZOFFSETTO:-0700
TZNAME:PDT
DTSTART:20200308T100000
END:DAYLIGHT
BEGIN:STANDARD
TZOFFSETFROM:-0700
TZOFFSETTO:-0800
TZNAME:PST
DTSTART:20201101T090000
END:STANDARD
END:VTIMEZONE
BEGIN:VEVENT
DTSTART;VALUE=DATE:20190727
DTEND;VALUE=DATE:20190804
DTSTAMP:20260424T194437
CREATED:20180512T043954Z
LAST-MODIFIED:20190427T003345Z
UID:4462-1564246800-1564851599@icicle.org
SUMMARY:Acting Camp
DESCRIPTION:
URL:https://icicle.org/event/acting-camp-14/
CATEGORIES:Education
END:VEVENT
BEGIN:VEVENT
DTSTART;VALUE=DATE:20190803
DTEND;VALUE=DATE:20190811
DTSTAMP:20260424T194437
CREATED:20180512T043956Z
LAST-MODIFIED:20190427T003235Z
UID:4469-1564851600-1565456399@icicle.org
SUMMARY:Musical Theater Camp
DESCRIPTION:
URL:https://icicle.org/event/musical-theater-camp-14/
CATEGORIES:Education
END:VEVENT
BEGIN:VEVENT
DTSTART;VALUE=DATE:20190810
DTEND;VALUE=DATE:20190818
DTSTAMP:20260424T194437
CREATED:20180512T044001Z
LAST-MODIFIED:20190427T002915Z
UID:4483-1565456400-1566061199@icicle.org
SUMMARY:Young Pianists Camp
DESCRIPTION:
URL:https://icicle.org/event/young-pianists-camp-14/
CATEGORIES:Education
END:VEVENT
END:VCALENDAR