BEGIN:VCALENDAR
VERSION:2.0
PRODID:-//Icicle Creek Center for the Arts - ECPv6.15.20//NONSGML v1.0//EN
CALSCALE:GREGORIAN
METHOD:PUBLISH
X-ORIGINAL-URL:https://icicle.org
X-WR-CALDESC:Events for Icicle Creek Center for the Arts
REFRESH-INTERVAL;VALUE=DURATION:PT1H
X-Robots-Tag:noindex
X-PUBLISHED-TTL:PT1H
BEGIN:VTIMEZONE
TZID:America/Los_Angeles
BEGIN:DAYLIGHT
TZOFFSETFROM:-0800
TZOFFSETTO:-0700
TZNAME:PDT
DTSTART:20170312T100000
END:DAYLIGHT
BEGIN:STANDARD
TZOFFSETFROM:-0700
TZOFFSETTO:-0800
TZNAME:PST
DTSTART:20171105T090000
END:STANDARD
BEGIN:DAYLIGHT
TZOFFSETFROM:-0800
TZOFFSETTO:-0700
TZNAME:PDT
DTSTART:20180311T100000
END:DAYLIGHT
BEGIN:STANDARD
TZOFFSETFROM:-0700
TZOFFSETTO:-0800
TZNAME:PST
DTSTART:20181104T090000
END:STANDARD
BEGIN:DAYLIGHT
TZOFFSETFROM:-0800
TZOFFSETTO:-0700
TZNAME:PDT
DTSTART:20190310T100000
END:DAYLIGHT
BEGIN:STANDARD
TZOFFSETFROM:-0700
TZOFFSETTO:-0800
TZNAME:PST
DTSTART:20191103T090000
END:STANDARD
END:VTIMEZONE
BEGIN:VEVENT
DTSTART;TZID=America/Los_Angeles:20181102T120000
DTEND;TZID=America/Los_Angeles:20181102T120000
DTSTAMP:20260425T121100
CREATED:20180830T062330Z
LAST-MODIFIED:20190130T030957Z
UID:5221-1541160000-1541160000@icicle.org
SUMMARY:Capitol Steps
DESCRIPTION:FALSE
URL:https://icicle.org/event/capitol-steps/
END:VEVENT
BEGIN:VEVENT
DTSTART;TZID=America/Los_Angeles:20181104T080000
DTEND;TZID=America/Los_Angeles:20181104T090000
DTSTAMP:20260425T121100
CREATED:20181019T043913Z
LAST-MODIFIED:20181019T043913Z
UID:5299-1541318400-1541322000@icicle.org
SUMMARY:Icicle Creek Youth Orchestra Fall Concert
DESCRIPTION:The students of the Icicle Creek Youth Orchestra perform in their annual fall concert!
URL:https://icicle.org/event/icicle-creek-youth-orchestra-fall-concert-2/
CATEGORIES:Education
END:VEVENT
BEGIN:VEVENT
DTSTART;TZID=America/Los_Angeles:20181111T060000
DTEND;TZID=America/Los_Angeles:20181111T060000
DTSTAMP:20260425T121100
CREATED:20180830T062332Z
LAST-MODIFIED:20180830T062332Z
UID:5227-1541916000-1541916000@icicle.org
SUMMARY:Marnie - The Met: Live in HD
DESCRIPTION:FALSE
URL:https://icicle.org/event/marnie-the-met-live-in-hd/
END:VEVENT
BEGIN:VEVENT
DTSTART;TZID=America/Los_Angeles:20181111T060000
DTEND;TZID=America/Los_Angeles:20181111T060000
DTSTAMP:20260425T121100
CREATED:20190130T030526Z
LAST-MODIFIED:20190130T030526Z
UID:5450-1541916000-1541916000@icicle.org
SUMMARY:Marnie - The Met: Live in HD
DESCRIPTION:FALSE
URL:https://icicle.org/event/marnie-the-met-live-in-hd-2/
END:VEVENT
BEGIN:VEVENT
DTSTART;TZID=America/Los_Angeles:20181111T060000
DTEND;TZID=America/Los_Angeles:20181111T060000
DTSTAMP:20260425T121100
CREATED:20190130T030959Z
LAST-MODIFIED:20190130T030959Z
UID:5472-1541916000-1541916000@icicle.org
SUMMARY:Marnie - The Met: Live in HD
DESCRIPTION:FALSE
URL:https://icicle.org/event/marnie-the-met-live-in-hd-3/
END:VEVENT
BEGIN:VEVENT
DTSTART;TZID=America/Los_Angeles:20181116T110000
DTEND;TZID=America/Los_Angeles:20181116T110000
DTSTAMP:20260425T121100
CREATED:20180830T062334Z
LAST-MODIFIED:20180830T062334Z
UID:5241-1542366000-1542366000@icicle.org
SUMMARY:Yugen
DESCRIPTION:FALSE
URL:https://icicle.org/event/yugen/
END:VEVENT
BEGIN:VEVENT
DTSTART;TZID=America/Los_Angeles:20181116T110000
DTEND;TZID=America/Los_Angeles:20181116T110000
DTSTAMP:20260425T121100
CREATED:20190130T030529Z
LAST-MODIFIED:20190130T030529Z
UID:5464-1542366000-1542366000@icicle.org
SUMMARY:Yugen
DESCRIPTION:FALSE
URL:https://icicle.org/event/yugen-2/
END:VEVENT
BEGIN:VEVENT
DTSTART;TZID=America/Los_Angeles:20181116T110000
DTEND;TZID=America/Los_Angeles:20181116T110000
DTSTAMP:20260425T121100
CREATED:20190130T031003Z
LAST-MODIFIED:20190130T031003Z
UID:5481-1542366000-1542366000@icicle.org
SUMMARY:Yugen
DESCRIPTION:FALSE
URL:https://icicle.org/event/yugen-3/
END:VEVENT
BEGIN:VEVENT
DTSTART;TZID=America/Los_Angeles:20181117T110000
DTEND;TZID=America/Los_Angeles:20181117T110000
DTSTAMP:20260425T121100
CREATED:20180830T062334Z
LAST-MODIFIED:20180830T062334Z
UID:5240-1542452400-1542452400@icicle.org
SUMMARY:Justin Kauflin
DESCRIPTION:FALSE
URL:https://icicle.org/event/justin-kauflin/
END:VEVENT
BEGIN:VEVENT
DTSTART;TZID=America/Los_Angeles:20181117T110000
DTEND;TZID=America/Los_Angeles:20181117T110000
DTSTAMP:20260425T121100
CREATED:20190130T030528Z
LAST-MODIFIED:20190130T030528Z
UID:5463-1542452400-1542452400@icicle.org
SUMMARY:Justin Kauflin
DESCRIPTION:FALSE
URL:https://icicle.org/event/justin-kauflin-2/
END:VEVENT
BEGIN:VEVENT
DTSTART;TZID=America/Los_Angeles:20181117T110000
DTEND;TZID=America/Los_Angeles:20181117T110000
DTSTAMP:20260425T121100
CREATED:20190130T031002Z
LAST-MODIFIED:20190130T031002Z
UID:5480-1542452400-1542452400@icicle.org
SUMMARY:Justin Kauflin
DESCRIPTION:FALSE
URL:https://icicle.org/event/justin-kauflin-3/
END:VEVENT
BEGIN:VEVENT
DTSTART;TZID=America/Los_Angeles:20181125T060000
DTEND;TZID=America/Los_Angeles:20181125T093000
DTSTAMP:20260425T121100
CREATED:20181122T032332Z
LAST-MODIFIED:20181122T032332Z
UID:5337-1543125600-1543138200@icicle.org
SUMMARY:False Promises
DESCRIPTION:
URL:https://icicle.org/event/false-promises/
END:VEVENT
BEGIN:VEVENT
DTSTART;TZID=America/Los_Angeles:20181130T110000
DTEND;TZID=America/Los_Angeles:20181130T110000
DTSTAMP:20260425T121100
CREATED:20180830T062334Z
LAST-MODIFIED:20180830T062334Z
UID:5239-1543575600-1543575600@icicle.org
SUMMARY:Matchstick Productions: All In
DESCRIPTION:FALSE
URL:https://icicle.org/event/matchstick-productions-all-in/
END:VEVENT
BEGIN:VEVENT
DTSTART;TZID=America/Los_Angeles:20181130T110000
DTEND;TZID=America/Los_Angeles:20181130T110000
DTSTAMP:20260425T121100
CREATED:20190130T030528Z
LAST-MODIFIED:20190130T030528Z
UID:5462-1543575600-1543575600@icicle.org
SUMMARY:Matchstick Productions: All In
DESCRIPTION:FALSE
URL:https://icicle.org/event/matchstick-productions-all-in-2/
END:VEVENT
BEGIN:VEVENT
DTSTART;TZID=America/Los_Angeles:20181130T110000
DTEND;TZID=America/Los_Angeles:20181130T110000
DTSTAMP:20260425T121100
CREATED:20190130T031002Z
LAST-MODIFIED:20190130T031002Z
UID:5479-1543575600-1543575600@icicle.org
SUMMARY:Matchstick Productions: All In
DESCRIPTION:FALSE
URL:https://icicle.org/event/matchstick-productions-all-in-3/
END:VEVENT
END:VCALENDAR