BEGIN:VCALENDAR
VERSION:2.0
PRODID:-//Icicle Creek Center for the Arts - ECPv6.15.20//NONSGML v1.0//EN
CALSCALE:GREGORIAN
METHOD:PUBLISH
X-ORIGINAL-URL:https://icicle.org
X-WR-CALDESC:Events for Icicle Creek Center for the Arts
REFRESH-INTERVAL;VALUE=DURATION:PT1H
X-Robots-Tag:noindex
X-PUBLISHED-TTL:PT1H
BEGIN:VTIMEZONE
TZID:America/Los_Angeles
BEGIN:DAYLIGHT
TZOFFSETFROM:-0800
TZOFFSETTO:-0700
TZNAME:PDT
DTSTART:20170312T100000
END:DAYLIGHT
BEGIN:STANDARD
TZOFFSETFROM:-0700
TZOFFSETTO:-0800
TZNAME:PST
DTSTART:20171105T090000
END:STANDARD
BEGIN:DAYLIGHT
TZOFFSETFROM:-0800
TZOFFSETTO:-0700
TZNAME:PDT
DTSTART:20180311T100000
END:DAYLIGHT
BEGIN:STANDARD
TZOFFSETFROM:-0700
TZOFFSETTO:-0800
TZNAME:PST
DTSTART:20181104T090000
END:STANDARD
BEGIN:DAYLIGHT
TZOFFSETFROM:-0800
TZOFFSETTO:-0700
TZNAME:PDT
DTSTART:20190310T100000
END:DAYLIGHT
BEGIN:STANDARD
TZOFFSETFROM:-0700
TZOFFSETTO:-0800
TZNAME:PST
DTSTART:20191103T090000
END:STANDARD
END:VTIMEZONE
BEGIN:VEVENT
DTSTART;TZID=America/Los_Angeles:20181006T025500
DTEND;TZID=America/Los_Angeles:20181006T025500
DTSTAMP:20260425T140145
CREATED:20180830T062330Z
LAST-MODIFIED:20190130T030957Z
UID:5222-1538794500-1538794500@icicle.org
SUMMARY:Aida - The Met: Live in HD
DESCRIPTION:FALSE
URL:https://icicle.org/event/aida-the-met-live-in-hd/
END:VEVENT
BEGIN:VEVENT
DTSTART;TZID=America/Los_Angeles:20181006T120000
DTEND;TZID=America/Los_Angeles:20181006T120000
DTSTAMP:20260425T140145
CREATED:20180830T062334Z
LAST-MODIFIED:20180830T062334Z
UID:5244-1538827200-1538827200@icicle.org
SUMMARY:Dar Williams
DESCRIPTION:FALSE
URL:https://icicle.org/event/dar-williams/
END:VEVENT
BEGIN:VEVENT
DTSTART;TZID=America/Los_Angeles:20181006T120000
DTEND;TZID=America/Los_Angeles:20181006T120000
DTSTAMP:20260425T140145
CREATED:20190130T030529Z
LAST-MODIFIED:20190130T030529Z
UID:5467-1538827200-1538827200@icicle.org
SUMMARY:Dar Williams
DESCRIPTION:FALSE
URL:https://icicle.org/event/dar-williams-2/
END:VEVENT
BEGIN:VEVENT
DTSTART;TZID=America/Los_Angeles:20181006T120000
DTEND;TZID=America/Los_Angeles:20181006T120000
DTSTAMP:20260425T140145
CREATED:20190130T031003Z
LAST-MODIFIED:20190130T031003Z
UID:5484-1538827200-1538827200@icicle.org
SUMMARY:Dar Williams
DESCRIPTION:FALSE
URL:https://icicle.org/event/dar-williams-3/
END:VEVENT
BEGIN:VEVENT
DTSTART;VALUE=DATE:20181011
DTEND;VALUE=DATE:20181014
DTSTAMP:20260425T140145
CREATED:20180830T062131Z
LAST-MODIFIED:20180830T062131Z
UID:5217-1539277200-1539449999@icicle.org
SUMMARY:Icicle Creek Family Film Festival
DESCRIPTION:A weekend of workshops\, films and fun for the whole family. Come to all or part\, just be sure to bring your imagination.
URL:https://icicle.org/event/icicle-creek-family-film-festival-4/
CATEGORIES:Films and Movies
END:VEVENT
BEGIN:VEVENT
DTSTART;TZID=America/Los_Angeles:20181019T120000
DTEND;TZID=America/Los_Angeles:20181019T120000
DTSTAMP:20260425T140145
CREATED:20180830T062334Z
LAST-MODIFIED:20180830T062334Z
UID:5245-1539950400-1539950400@icicle.org
SUMMARY:Jayme Stone
DESCRIPTION:FALSE
URL:https://icicle.org/event/jayme-stone/
END:VEVENT
BEGIN:VEVENT
DTSTART;TZID=America/Los_Angeles:20181019T120000
DTEND;TZID=America/Los_Angeles:20181019T120000
DTSTAMP:20260425T140145
CREATED:20190130T030529Z
LAST-MODIFIED:20190130T030529Z
UID:5468-1539950400-1539950400@icicle.org
SUMMARY:Jayme Stone
DESCRIPTION:FALSE
URL:https://icicle.org/event/jayme-stone-2/
END:VEVENT
BEGIN:VEVENT
DTSTART;TZID=America/Los_Angeles:20181019T120000
DTEND;TZID=America/Los_Angeles:20181019T120000
DTSTAMP:20260425T140145
CREATED:20190130T031003Z
LAST-MODIFIED:20190130T031003Z
UID:5485-1539950400-1539950400@icicle.org
SUMMARY:Jayme Stone
DESCRIPTION:FALSE
URL:https://icicle.org/event/jayme-stone-3/
END:VEVENT
BEGIN:VEVENT
DTSTART;TZID=America/Los_Angeles:20181020T120000
DTEND;TZID=America/Los_Angeles:20181020T120000
DTSTAMP:20260425T140145
CREATED:20180830T062330Z
LAST-MODIFIED:20190130T030957Z
UID:5224-1540036800-1540036800@icicle.org
SUMMARY:Volta Piano Trio
DESCRIPTION:FALSE
URL:https://icicle.org/event/volta-piano-trio-2/
END:VEVENT
BEGIN:VEVENT
DTSTART;TZID=America/Los_Angeles:20181026T120000
DTEND;TZID=America/Los_Angeles:20181026T120000
DTSTAMP:20260425T140145
CREATED:20180830T062336Z
LAST-MODIFIED:20180830T062336Z
UID:5246-1540555200-1540555200@icicle.org
SUMMARY:Alchemy Tap Project
DESCRIPTION:FALSE
URL:https://icicle.org/event/alchemy-tap-project/
END:VEVENT
BEGIN:VEVENT
DTSTART;TZID=America/Los_Angeles:20181026T120000
DTEND;TZID=America/Los_Angeles:20181026T120000
DTSTAMP:20260425T140145
CREATED:20190130T030530Z
LAST-MODIFIED:20190130T030530Z
UID:5469-1540555200-1540555200@icicle.org
SUMMARY:Alchemy Tap Project
DESCRIPTION:FALSE
URL:https://icicle.org/event/alchemy-tap-project-2/
END:VEVENT
BEGIN:VEVENT
DTSTART;TZID=America/Los_Angeles:20181026T120000
DTEND;TZID=America/Los_Angeles:20181026T120000
DTSTAMP:20260425T140145
CREATED:20190130T031003Z
LAST-MODIFIED:20190130T031003Z
UID:5486-1540555200-1540555200@icicle.org
SUMMARY:Alchemy Tap Project
DESCRIPTION:FALSE
URL:https://icicle.org/event/alchemy-tap-project-3/
END:VEVENT
BEGIN:VEVENT
DTSTART;TZID=America/Los_Angeles:20181027T025500
DTEND;TZID=America/Los_Angeles:20181027T025500
DTSTAMP:20260425T140145
CREATED:20180830T062332Z
LAST-MODIFIED:20180830T062332Z
UID:5230-1540608900-1540608900@icicle.org
SUMMARY:La Fanciulla del West - The Met: Live in HD
DESCRIPTION:FALSE
URL:https://icicle.org/event/la-fanciulla-del-west-the-met-live-in-hd/
END:VEVENT
BEGIN:VEVENT
DTSTART;TZID=America/Los_Angeles:20181027T025500
DTEND;TZID=America/Los_Angeles:20181027T025500
DTSTAMP:20260425T140145
CREATED:20190130T030527Z
LAST-MODIFIED:20190130T030527Z
UID:5453-1540608900-1540608900@icicle.org
SUMMARY:La Fanciulla del West - The Met: Live in HD
DESCRIPTION:FALSE
URL:https://icicle.org/event/la-fanciulla-del-west-the-met-live-in-hd-2/
END:VEVENT
BEGIN:VEVENT
DTSTART;TZID=America/Los_Angeles:20181027T025500
DTEND;TZID=America/Los_Angeles:20181027T025500
DTSTAMP:20260425T140145
CREATED:20190130T030959Z
LAST-MODIFIED:20190130T030959Z
UID:5474-1540608900-1540608900@icicle.org
SUMMARY:La Fanciulla del West - The Met: Live in HD
DESCRIPTION:FALSE
URL:https://icicle.org/event/la-fanciulla-del-west-the-met-live-in-hd-3/
END:VEVENT
BEGIN:VEVENT
DTSTART;TZID=America/Los_Angeles:20181027T103000
DTEND;TZID=America/Los_Angeles:20181027T103000
DTSTAMP:20260425T140145
CREATED:20180830T062333Z
LAST-MODIFIED:20180830T062333Z
UID:5237-1540636200-1540636200@icicle.org
SUMMARY:TGR: Far Out
DESCRIPTION:FALSE
URL:https://icicle.org/event/tgr-far-out-2/
END:VEVENT
BEGIN:VEVENT
DTSTART;TZID=America/Los_Angeles:20181027T103000
DTEND;TZID=America/Los_Angeles:20181027T103000
DTSTAMP:20260425T140145
CREATED:20190130T030528Z
LAST-MODIFIED:20190130T030528Z
UID:5460-1540636200-1540636200@icicle.org
SUMMARY:TGR: Far Out
DESCRIPTION:FALSE
URL:https://icicle.org/event/tgr-far-out-4/
END:VEVENT
BEGIN:VEVENT
DTSTART;TZID=America/Los_Angeles:20181027T103000
DTEND;TZID=America/Los_Angeles:20181027T103000
DTSTAMP:20260425T140145
CREATED:20190130T031001Z
LAST-MODIFIED:20190130T031001Z
UID:5477-1540636200-1540636200@icicle.org
SUMMARY:TGR: Far Out
DESCRIPTION:FALSE
URL:https://icicle.org/event/tgr-far-out-6/
END:VEVENT
BEGIN:VEVENT
DTSTART;TZID=America/Los_Angeles:20181027T130000
DTEND;TZID=America/Los_Angeles:20181027T130000
DTSTAMP:20260425T140145
CREATED:20180830T062333Z
LAST-MODIFIED:20180830T062333Z
UID:5236-1540645200-1540645200@icicle.org
SUMMARY:TGR: Far Out
DESCRIPTION:FALSE
URL:https://icicle.org/event/tgr-far-out/
END:VEVENT
BEGIN:VEVENT
DTSTART;TZID=America/Los_Angeles:20181027T130000
DTEND;TZID=America/Los_Angeles:20181027T130000
DTSTAMP:20260425T140145
CREATED:20190130T030528Z
LAST-MODIFIED:20190130T030528Z
UID:5459-1540645200-1540645200@icicle.org
SUMMARY:TGR: Far Out
DESCRIPTION:FALSE
URL:https://icicle.org/event/tgr-far-out-3/
END:VEVENT
BEGIN:VEVENT
DTSTART;TZID=America/Los_Angeles:20181027T130000
DTEND;TZID=America/Los_Angeles:20181027T130000
DTSTAMP:20260425T140145
CREATED:20190130T031001Z
LAST-MODIFIED:20190130T031001Z
UID:5476-1540645200-1540645200@icicle.org
SUMMARY:TGR: Far Out
DESCRIPTION:FALSE
URL:https://icicle.org/event/tgr-far-out-5/
END:VEVENT
END:VCALENDAR