BEGIN:VCALENDAR
VERSION:2.0
PRODID:-//Icicle Creek Center for the Arts - ECPv6.15.20//NONSGML v1.0//EN
CALSCALE:GREGORIAN
METHOD:PUBLISH
X-WR-CALNAME:Icicle Creek Center for the Arts
X-ORIGINAL-URL:https://icicle.org
X-WR-CALDESC:Events for Icicle Creek Center for the Arts
REFRESH-INTERVAL;VALUE=DURATION:PT1H
X-Robots-Tag:noindex
X-PUBLISHED-TTL:PT1H
BEGIN:VTIMEZONE
TZID:America/Los_Angeles
BEGIN:DAYLIGHT
TZOFFSETFROM:-0800
TZOFFSETTO:-0700
TZNAME:PDT
DTSTART:20170312T100000
END:DAYLIGHT
BEGIN:STANDARD
TZOFFSETFROM:-0700
TZOFFSETTO:-0800
TZNAME:PST
DTSTART:20171105T090000
END:STANDARD
BEGIN:DAYLIGHT
TZOFFSETFROM:-0800
TZOFFSETTO:-0700
TZNAME:PDT
DTSTART:20180311T100000
END:DAYLIGHT
BEGIN:STANDARD
TZOFFSETFROM:-0700
TZOFFSETTO:-0800
TZNAME:PST
DTSTART:20181104T090000
END:STANDARD
BEGIN:DAYLIGHT
TZOFFSETFROM:-0800
TZOFFSETTO:-0700
TZNAME:PDT
DTSTART:20190310T100000
END:DAYLIGHT
BEGIN:STANDARD
TZOFFSETFROM:-0700
TZOFFSETTO:-0800
TZNAME:PST
DTSTART:20191103T090000
END:STANDARD
END:VTIMEZONE
BEGIN:VEVENT
DTSTART;VALUE=DATE:20180701
DTEND;VALUE=DATE:20180702
DTSTAMP:20260425T193837
CREATED:20180512T043947Z
LAST-MODIFIED:20180512T043947Z
UID:4435-1530403200-1530489599@icicle.org
SUMMARY:Chamber Music Festival & Institute
DESCRIPTION:
URL:https://icicle.org/event/chamber-music-festival-institute/
CATEGORIES:Education
END:VEVENT
BEGIN:VEVENT
DTSTART;VALUE=DATE:20180702
DTEND;VALUE=DATE:20180703
DTSTAMP:20260425T193837
CREATED:20180512T043947Z
LAST-MODIFIED:20180512T043947Z
UID:4436-1530489600-1530575999@icicle.org
SUMMARY:Chamber Music Festival & Institute
DESCRIPTION:
URL:https://icicle.org/event/chamber-music-festival-institute-2/
CATEGORIES:Education
END:VEVENT
BEGIN:VEVENT
DTSTART;VALUE=DATE:20180703
DTEND;VALUE=DATE:20180704
DTSTAMP:20260425T193837
CREATED:20180512T043948Z
LAST-MODIFIED:20180512T043948Z
UID:4437-1530576000-1530662399@icicle.org
SUMMARY:Chamber Music Festival & Institute
DESCRIPTION:
URL:https://icicle.org/event/chamber-music-festival-institute-3/
CATEGORIES:Education
END:VEVENT
BEGIN:VEVENT
DTSTART;VALUE=DATE:20180704
DTEND;VALUE=DATE:20180705
DTSTAMP:20260425T193837
CREATED:20180512T043948Z
LAST-MODIFIED:20180512T043948Z
UID:4438-1530662400-1530748799@icicle.org
SUMMARY:Chamber Music Festival & Institute
DESCRIPTION:
URL:https://icicle.org/event/chamber-music-festival-institute-4/
CATEGORIES:Education
END:VEVENT
BEGIN:VEVENT
DTSTART;VALUE=DATE:20180705
DTEND;VALUE=DATE:20180706
DTSTAMP:20260425T193837
CREATED:20180512T043948Z
LAST-MODIFIED:20180512T043948Z
UID:4439-1530748800-1530835199@icicle.org
SUMMARY:Chamber Music Festival & Institute
DESCRIPTION:
URL:https://icicle.org/event/chamber-music-festival-institute-5/
CATEGORIES:Education
END:VEVENT
BEGIN:VEVENT
DTSTART;VALUE=DATE:20180706
DTEND;VALUE=DATE:20180707
DTSTAMP:20260425T193837
CREATED:20180512T043948Z
LAST-MODIFIED:20180512T043948Z
UID:4440-1530835200-1530921599@icicle.org
SUMMARY:Chamber Music Festival & Institute
DESCRIPTION:
URL:https://icicle.org/event/chamber-music-festival-institute-6/
CATEGORIES:Education
END:VEVENT
BEGIN:VEVENT
DTSTART;VALUE=DATE:20180707
DTEND;VALUE=DATE:20180708
DTSTAMP:20260425T193837
CREATED:20180512T043949Z
LAST-MODIFIED:20180512T043949Z
UID:4441-1530921600-1531007999@icicle.org
SUMMARY:Chamber Music Festival & Institute
DESCRIPTION:
URL:https://icicle.org/event/chamber-music-festival-institute-7/
CATEGORIES:Education
END:VEVENT
BEGIN:VEVENT
DTSTART;VALUE=DATE:20180708
DTEND;VALUE=DATE:20180709
DTSTAMP:20260425T193837
CREATED:20180512T043949Z
LAST-MODIFIED:20180512T043949Z
UID:4442-1531008000-1531094399@icicle.org
SUMMARY:Chamber Music Festival & Institute
DESCRIPTION:
URL:https://icicle.org/event/chamber-music-festival-institute-8/
CATEGORIES:Education
END:VEVENT
BEGIN:VEVENT
DTSTART;VALUE=DATE:20180709
DTEND;VALUE=DATE:20180710
DTSTAMP:20260425T193837
CREATED:20180512T043949Z
LAST-MODIFIED:20180512T043949Z
UID:4443-1531094400-1531180799@icicle.org
SUMMARY:Chamber Music Festival & Institute
DESCRIPTION:
URL:https://icicle.org/event/chamber-music-festival-institute-9/
CATEGORIES:Education
END:VEVENT
BEGIN:VEVENT
DTSTART;VALUE=DATE:20180710
DTEND;VALUE=DATE:20180711
DTSTAMP:20260425T193837
CREATED:20180512T043949Z
LAST-MODIFIED:20180512T043949Z
UID:4444-1531180800-1531267199@icicle.org
SUMMARY:Chamber Music Festival & Institute
DESCRIPTION:
URL:https://icicle.org/event/chamber-music-festival-institute-10/
CATEGORIES:Education
END:VEVENT
BEGIN:VEVENT
DTSTART;VALUE=DATE:20180711
DTEND;VALUE=DATE:20180712
DTSTAMP:20260425T193837
CREATED:20180512T043949Z
LAST-MODIFIED:20180512T043949Z
UID:4445-1531267200-1531353599@icicle.org
SUMMARY:Chamber Music Festival & Institute
DESCRIPTION:
URL:https://icicle.org/event/chamber-music-festival-institute-11/
CATEGORIES:Education
END:VEVENT
BEGIN:VEVENT
DTSTART;VALUE=DATE:20180712
DTEND;VALUE=DATE:20180713
DTSTAMP:20260425T193837
CREATED:20180512T043949Z
LAST-MODIFIED:20180512T043949Z
UID:4446-1531353600-1531439999@icicle.org
SUMMARY:Chamber Music Festival & Institute
DESCRIPTION:
URL:https://icicle.org/event/chamber-music-festival-institute-12/
CATEGORIES:Education
END:VEVENT
BEGIN:VEVENT
DTSTART;VALUE=DATE:20180713
DTEND;VALUE=DATE:20180714
DTSTAMP:20260425T193837
CREATED:20180512T043950Z
LAST-MODIFIED:20180512T043950Z
UID:4447-1531440000-1531526399@icicle.org
SUMMARY:Chamber Music Festival & Institute
DESCRIPTION:
URL:https://icicle.org/event/chamber-music-festival-institute-13/
CATEGORIES:Education
END:VEVENT
BEGIN:VEVENT
DTSTART;VALUE=DATE:20180714
DTEND;VALUE=DATE:20180715
DTSTAMP:20260425T193837
CREATED:20180512T043951Z
LAST-MODIFIED:20180512T043951Z
UID:4448-1531526400-1531612799@icicle.org
SUMMARY:Chamber Music Festival & Institute
DESCRIPTION:
URL:https://icicle.org/event/chamber-music-festival-institute-14/
CATEGORIES:Education
END:VEVENT
BEGIN:VEVENT
DTSTART;VALUE=DATE:20180715
DTEND;VALUE=DATE:20180716
DTSTAMP:20260425T193837
CREATED:20180512T043951Z
LAST-MODIFIED:20180512T043951Z
UID:4449-1531612800-1531699199@icicle.org
SUMMARY:Chamber Music Festival & Institute
DESCRIPTION:
URL:https://icicle.org/event/chamber-music-festival-institute-15/
CATEGORIES:Education
END:VEVENT
BEGIN:VEVENT
DTSTART;VALUE=DATE:20180716
DTEND;VALUE=DATE:20180717
DTSTAMP:20260425T193837
CREATED:20180512T043952Z
LAST-MODIFIED:20180512T043952Z
UID:4450-1531699200-1531785599@icicle.org
SUMMARY:Chamber Music Festival & Institute
DESCRIPTION:
URL:https://icicle.org/event/chamber-music-festival-institute-16/
CATEGORIES:Education
END:VEVENT
BEGIN:VEVENT
DTSTART;VALUE=DATE:20180717
DTEND;VALUE=DATE:20180718
DTSTAMP:20260425T193837
CREATED:20180512T043952Z
LAST-MODIFIED:20180512T043952Z
UID:4451-1531785600-1531871999@icicle.org
SUMMARY:Chamber Music Festival & Institute
DESCRIPTION:
URL:https://icicle.org/event/chamber-music-festival-institute-17/
CATEGORIES:Education
END:VEVENT
BEGIN:VEVENT
DTSTART;VALUE=DATE:20180718
DTEND;VALUE=DATE:20180719
DTSTAMP:20260425T193837
CREATED:20180512T043952Z
LAST-MODIFIED:20180512T043952Z
UID:4452-1531872000-1531958399@icicle.org
SUMMARY:Chamber Music Festival & Institute
DESCRIPTION:
URL:https://icicle.org/event/chamber-music-festival-institute-18/
CATEGORIES:Education
END:VEVENT
BEGIN:VEVENT
DTSTART;VALUE=DATE:20180719
DTEND;VALUE=DATE:20180720
DTSTAMP:20260425T193837
CREATED:20180512T043953Z
LAST-MODIFIED:20180512T043953Z
UID:4453-1531958400-1532044799@icicle.org
SUMMARY:Chamber Music Festival & Institute
DESCRIPTION:
URL:https://icicle.org/event/chamber-music-festival-institute-19/
CATEGORIES:Education
END:VEVENT
BEGIN:VEVENT
DTSTART;VALUE=DATE:20180720
DTEND;VALUE=DATE:20180721
DTSTAMP:20260425T193837
CREATED:20180512T043953Z
LAST-MODIFIED:20180512T043953Z
UID:4454-1532044800-1532131199@icicle.org
SUMMARY:Chamber Music Festival & Institute
DESCRIPTION:
URL:https://icicle.org/event/chamber-music-festival-institute-20/
CATEGORIES:Education
END:VEVENT
BEGIN:VEVENT
DTSTART;VALUE=DATE:20180722
DTEND;VALUE=DATE:20180723
DTSTAMP:20260425T193837
CREATED:20180512T043953Z
LAST-MODIFIED:20180512T043953Z
UID:4456-1532217600-1532303999@icicle.org
SUMMARY:Acting Camp
DESCRIPTION:
URL:https://icicle.org/event/acting-camp-8/
CATEGORIES:Education
END:VEVENT
BEGIN:VEVENT
DTSTART;VALUE=DATE:20180723
DTEND;VALUE=DATE:20180724
DTSTAMP:20260425T193837
CREATED:20180512T043953Z
LAST-MODIFIED:20180512T043953Z
UID:4457-1532304000-1532390399@icicle.org
SUMMARY:Acting Camp
DESCRIPTION:
URL:https://icicle.org/event/acting-camp-9/
CATEGORIES:Education
END:VEVENT
BEGIN:VEVENT
DTSTART;VALUE=DATE:20180724
DTEND;VALUE=DATE:20180725
DTSTAMP:20260425T193837
CREATED:20180512T043954Z
LAST-MODIFIED:20180512T043954Z
UID:4458-1532390400-1532476799@icicle.org
SUMMARY:Acting Camp
DESCRIPTION:
URL:https://icicle.org/event/acting-camp-10/
CATEGORIES:Education
END:VEVENT
BEGIN:VEVENT
DTSTART;VALUE=DATE:20180725
DTEND;VALUE=DATE:20180726
DTSTAMP:20260425T193837
CREATED:20180512T043954Z
LAST-MODIFIED:20180512T043954Z
UID:4459-1532476800-1532563199@icicle.org
SUMMARY:Acting Camp
DESCRIPTION:
URL:https://icicle.org/event/acting-camp-11/
CATEGORIES:Education
END:VEVENT
BEGIN:VEVENT
DTSTART;VALUE=DATE:20180726
DTEND;VALUE=DATE:20180727
DTSTAMP:20260425T193837
CREATED:20180512T043954Z
LAST-MODIFIED:20180512T043954Z
UID:4460-1532563200-1532649599@icicle.org
SUMMARY:Acting Camp
DESCRIPTION:
URL:https://icicle.org/event/acting-camp-12/
CATEGORIES:Education
END:VEVENT
BEGIN:VEVENT
DTSTART;VALUE=DATE:20180727
DTEND;VALUE=DATE:20180728
DTSTAMP:20260425T193837
CREATED:20180512T043954Z
LAST-MODIFIED:20180512T043954Z
UID:4461-1532649600-1532735999@icicle.org
SUMMARY:Acting Camp
DESCRIPTION:
URL:https://icicle.org/event/acting-camp-13/
CATEGORIES:Education
END:VEVENT
BEGIN:VEVENT
DTSTART;TZID=America/Los_Angeles:20180728T190000
DTEND;TZID=America/Los_Angeles:20180728T190000
DTSTAMP:20260425T193837
CREATED:20180512T044004Z
LAST-MODIFIED:20180512T044004Z
UID:4492-1532804400-1532804400@icicle.org
SUMMARY:Bruce Cockburn
DESCRIPTION:For 40 years\, this Canadian musical legend has been capturing in song the essence of human experience.
URL:https://icicle.org/event/bruce-cockburn/
CATEGORIES:Live Performances
END:VEVENT
BEGIN:VEVENT
DTSTART;VALUE=DATE:20180729
DTEND;VALUE=DATE:20180730
DTSTAMP:20260425T193837
CREATED:20180512T043955Z
LAST-MODIFIED:20180512T043955Z
UID:4463-1532822400-1532908799@icicle.org
SUMMARY:Musical Theater Camp
DESCRIPTION:
URL:https://icicle.org/event/musical-theater-camp-8/
CATEGORIES:Education
END:VEVENT
BEGIN:VEVENT
DTSTART;VALUE=DATE:20180730
DTEND;VALUE=DATE:20180731
DTSTAMP:20260425T193837
CREATED:20180512T043955Z
LAST-MODIFIED:20180512T043955Z
UID:4464-1532908800-1532995199@icicle.org
SUMMARY:Musical Theater Camp
DESCRIPTION:
URL:https://icicle.org/event/musical-theater-camp-9/
CATEGORIES:Education
END:VEVENT
BEGIN:VEVENT
DTSTART;VALUE=DATE:20180731
DTEND;VALUE=DATE:20180801
DTSTAMP:20260425T193837
CREATED:20180512T043955Z
LAST-MODIFIED:20180512T043955Z
UID:4465-1532995200-1533081599@icicle.org
SUMMARY:Musical Theater Camp
DESCRIPTION:
URL:https://icicle.org/event/musical-theater-camp-10/
CATEGORIES:Education
END:VEVENT
END:VCALENDAR